BEGIN:VCALENDAR
VERSION:2.0
PRODID:-//Tukios.com/
BEGIN:VEVENT
UID:785d5d87-6227-49c8-a8ec-1a7147e82c47@www.giddensmemorialchapel.com
DTSTAMP:20260421T103524Z
DTSTART:20260509T180000Z
DTEND:20260509T200000Z
SUMMARY:Celebration Of Life for Brenda Burton Magee
DESCRIPTION:
URL:https://www.giddensmemorialchapel.com/obituaries/brenda-magee
LOCATION:Giddens Memorial Chapel- Family Life Center 2610 North Martin 
	Luther King Boulevard  North Las Vegas NV 89032
GEO:36.2069144;-115.160564
END:VEVENT
END:VCALENDAR