BEGIN:VCALENDAR
VERSION:2.0
PRODID:-//Tukios.com/
BEGIN:VEVENT
UID:d63f1c64-5be9-48f4-a3c3-ad468b646687@www.giddensmemorialchapel.com
DTSTAMP:20260421T103540Z
DTSTART:20260509T200000Z
DTEND:20260509T220000Z
SUMMARY:Reception for Brenda Burton Magee
DESCRIPTION:
URL:https://www.giddensmemorialchapel.com/obituaries/brenda-magee
LOCATION:Giddens Memorial Chapel- Family Life Center 2610 North Martin 
	Luther King Boulevard  North Las Vegas NV 89032
GEO:36.2069144;-115.160564
END:VEVENT
END:VCALENDAR