BEGIN:VCALENDAR
VERSION:2.0
PRODID:-//Tukios.com/
BEGIN:VEVENT
UID:1421c8c8-45f8-47f4-b782-7949a3261a5c@www.giddensmemorialchapel.com
DTSTAMP:20260421T103854Z
DTSTART:20260509T170000Z
DTEND:20260509T180000Z
SUMMARY:Visitation for Brenda Burton Magee
DESCRIPTION:
URL:https://www.giddensmemorialchapel.com/obituaries/brenda-magee
LOCATION:Giddens Memorial Chapel- Family Life Center 2610 North Martin 
	Luther King Boulevard  North Las Vegas NV 89032
GEO:36.2069144;-115.160564
END:VEVENT
END:VCALENDAR