BEGIN:VCALENDAR
VERSION:2.0
PRODID:-//Tukios.com/
BEGIN:VEVENT
UID:6700d377-e337-4f1c-99ef-d03ad1081066@www.giddensmemorialchapel.com
DTSTAMP:20260422T012339Z
DTSTART:20260504T200000Z
DTEND:20260504T220000Z
SUMMARY:Funeral for CaShawn Lamar Carter
DESCRIPTION:
URL:https://www.giddensmemorialchapel.com/obituaries/cashawn-carter
LOCATION:Giddens Memorial Chapel- Family Life Center 2610 North Martin 
	Luther King Boulevard  North Las Vegas NV 89032
GEO:36.2069144;-115.160564
END:VEVENT
END:VCALENDAR