BEGIN:VCALENDAR
VERSION:2.0
PRODID:-//Tukios.com/
BEGIN:VEVENT
UID:e2a68bd8-4aa5-438f-ad87-57029e904598@www.giddensmemorialchapel.com
DTSTAMP:20260422T012744Z
DTSTART:20260504T190000Z
DTEND:20260504T200000Z
SUMMARY:Visitation for CaShawn Lamar Carter
DESCRIPTION:
URL:https://www.giddensmemorialchapel.com/obituaries/cashawn-carter
LOCATION:Giddens Memorial Chapel- Family Life Center 2610 North Martin 
	Luther King Boulevard  North Las Vegas NV 89032
GEO:36.2069144;-115.160564
END:VEVENT
END:VCALENDAR