BEGIN:VCALENDAR
VERSION:2.0
PRODID:-//Tukios.com/
BEGIN:VEVENT
UID:7bb5c90a-3715-4b6f-83ee-0302f7d5d6b2@www.giddensmemorialchapel.com
DTSTAMP:20260420T235536Z
DTSTART:20260429T180000Z
DTEND:20260429T200000Z
SUMMARY:Memorial for Joseph Carroll Jr
DESCRIPTION:
URL:https://www.giddensmemorialchapel.com/obituaries/joseph-carroll
LOCATION:Victory Missionary Baptist Church 500 West Monroe Avenue  Las 
	Vegas NV 89106
GEO:36.1851828;-115.1488428
END:VEVENT
END:VCALENDAR